BEGIN:VCALENDAR
VERSION:2.0
PRODID:-//eventon.com NONSGML v1.0//EN
CALSCALE:GREGORIAN
METHOD:PUBLISH
BEGIN:VEVENT
UID:69e4d45d7a847
DTSTAMP:20260419T131053Z
DTSTART:20251209T170000Z
DTEND:20251209T190000Z
LOCATION:Zentrale Schiessssportanlage Xanten e. V. Fürstenberg 9a
SUMMARY:Kreismeisterschaft RSB Zentralfeuer .32-.38
DESCRIPTION:\nhttps://kks-xanten.de/events/kreismeisterschaft-rsb-zentralfe
 uer-32-38/
URL:https://kks-xanten.de/events/kreismeisterschaft-rsb-zentralfeuer-32-38/
END:VEVENT
END:VCALENDAR