BEGIN:VCALENDAR
VERSION:2.0
PRODID:-//eventon.com NONSGML v1.0//EN
CALSCALE:GREGORIAN
METHOD:PUBLISH
BEGIN:VEVENT
UID:69e88c42c2c5e
DTSTAMP:20260422T085218Z
DTSTART:20260320T160000Z
DTEND:20260320T190000Z
LOCATION:Schießstand KKS-Xanten e. V. Fuerstenberg 9a
SUMMARY:Fallplattenschiessen 20.03.2026
DESCRIPTION:\nhttps://kks-xanten.de/events/fallplattenschiessen-20-03-2026/
URL:https://kks-xanten.de/events/fallplattenschiessen-20-03-2026/
END:VEVENT
END:VCALENDAR