BEGIN:VCALENDAR
VERSION:2.0
PRODID:-//eventon.com NONSGML v1.0//EN
CALSCALE:GREGORIAN
METHOD:PUBLISH
BEGIN:VEVENT
UID:69eb2f0eb7b47
DTSTAMP:20260424T085126Z
DTSTART:20260310T070000Z
DTEND:20260310T140000Z
LOCATION:
SUMMARY:JVA Geldern Standbelegung
DESCRIPTION:\nhttps://kks-xanten.de/events/jva-geldern-standbelegung/
URL:https://kks-xanten.de/events/jva-geldern-standbelegung/
END:VEVENT
END:VCALENDAR