BEGIN:VCALENDAR
VERSION:2.0
PRODID:-//eventon.com NONSGML v1.0//EN
CALSCALE:GREGORIAN
METHOD:PUBLISH
BEGIN:VEVENT
UID:69eb407902206
DTSTAMP:20260424T100545Z
DTSTART:20260421T060000Z
DTEND:20260421T130000Z
LOCATION:
SUMMARY:JVA Geldern Standbelegung
DESCRIPTION:\nhttps://kks-xanten.de/events/jva-geldern-standbelegung-2/
URL:https://kks-xanten.de/events/jva-geldern-standbelegung-2/
END:VEVENT
END:VCALENDAR