BEGIN:VCALENDAR
VERSION:2.0
PRODID:-//eventon.com NONSGML v1.0//EN
CALSCALE:GREGORIAN
METHOD:PUBLISH
BEGIN:VEVENT
UID:69eb465698b83
DTSTAMP:20260424T103046Z
DTSTART:20260428T060000Z
DTEND:20260428T130000Z
LOCATION:
SUMMARY:JVA Geldern Standbelegung
DESCRIPTION:\nhttps://kks-xanten.de/events/jva-geldern-standbelegung-3/
URL:https://kks-xanten.de/events/jva-geldern-standbelegung-3/
END:VEVENT
END:VCALENDAR