BEGIN:VCALENDAR
VERSION:2.0
PRODID:-//eventon.com NONSGML v1.0//EN
CALSCALE:GREGORIAN
METHOD:PUBLISH
BEGIN:VEVENT
UID:69e8a03b4dd73
DTSTAMP:20260422T101731Z
DTSTART:20260623T060000Z
DTEND:20260623T130000Z
LOCATION:
SUMMARY:JVA Geldern Standbelegung
DESCRIPTION:\nhttps://kks-xanten.de/events/jva-geldern-standbelegung-3/var/
 ri-3.l-L1
URL:https://kks-xanten.de/events/jva-geldern-standbelegung-3/var/ri-3.l-L1
END:VEVENT
END:VCALENDAR