BEGIN:VCALENDAR
VERSION:2.0
PRODID:-//eventon.com NONSGML v1.0//EN
CALSCALE:GREGORIAN
METHOD:PUBLISH
BEGIN:VEVENT
UID:69e8bb56db94c
DTSTAMP:20260422T121310Z
DTSTART:20260922T060000Z
DTEND:20260922T130000Z
LOCATION:
SUMMARY:JVA Geldern Standbelegung
DESCRIPTION:\nhttps://kks-xanten.de/events/jva-geldern-standbelegung-3/var/
 ri-5.l-L1
URL:https://kks-xanten.de/events/jva-geldern-standbelegung-3/var/ri-5.l-L1
END:VEVENT
END:VCALENDAR