BEGIN:VCALENDAR
VERSION:2.0
PRODID:-//eventon.com NONSGML v1.0//EN
CALSCALE:GREGORIAN
METHOD:PUBLISH
BEGIN:VEVENT
UID:69eb2efa432f5
DTSTAMP:20260424T085106Z
DTSTART:20260417T150000Z
DTEND:20260417T180000Z
LOCATION:Schießstand KKS-Xanten e. V. Fuerstenberg 9a
SUMMARY:Fallplattenschiessen 17.04.2026
DESCRIPTION:\nhttps://kks-xanten.de/events/fallplattenschiessen-17-04-2026/
URL:https://kks-xanten.de/events/fallplattenschiessen-17-04-2026/
END:VEVENT
END:VCALENDAR